BEGIN:VCALENDAR
VERSION:2.0
PRODID:-//Point Lookout Bowls Club - ECPv4.6.7//NONSGML v1.0//EN
CALSCALE:GREGORIAN
METHOD:PUBLISH
X-WR-CALNAME:Point Lookout Bowls Club
X-ORIGINAL-URL:https://www.pointlookoutbowlsclub.com.au
X-WR-CALDESC:Events for Point Lookout Bowls Club
BEGIN:VEVENT
DTSTART;TZID=UTC+0:20180405T190000
DTEND;TZID=UTC+0:20180405T190000
DTSTAMP:20200229T143607
CREATED:20180225T080050Z
LAST-MODIFIED:20180227T014024Z
UID:539-1522954800-1522954800@www.pointlookoutbowlsclub.com.au
SUMMARY:Bingo
DESCRIPTION:
URL:https://www.pointlookoutbowlsclub.com.au/event/bingo/
LOCATION:Point Lookout Bowls Club\, 75 Dickson Way\, Stradbroke Island\, Point Lookout\, QLD 4183\, Australia
CATEGORIES:Events,Featured
ATTACH;FMTTYPE=image/jpeg:https://www.pointlookoutbowlsclub.com.au/wp-content/uploads/2017/12/bingo.jpg
END:VEVENT
END:VCALENDAR